Workbook

Sheet Cyclogram
A1: Actuator | B1: Movement | C1: Waits for (an actuator above) | D1: Until it has | E1: Offset s | F1: Stroke out s | G1: At the end position s | H1: Stroke back s | I1: Start s | J1: Arrived s | K1: Released s | L1: End s | M1: Total s | O1: Cycle time s | P1: Sequential sum s
A2: Move to position | B2: Slide out and back | E2: 0 | F2: 0.5 | G2: 1.5 | H2: 0.5 | I2: =IF($A2="","",IF($C2="",0,IF($D2="arrived",INDEX($J:$J,MATCH($C2,$A:$A,0)),INDEX($L:$L,MATCH($C2,$A:$A,0))))+N($E2)) | J2: =IF($A2="","",$I2+N($F2)) | K2: =IF($A2="","",$J2+N($G2)) | L2: =IF($A2="","",$K2+N($H2)) | M2: =IF($A2="","",N($F2)+N($G2)+N($H2)) | O2: =MAX($L$2:$L$31) | P2: =SUM($M$2:$M$31)
A3: Clamp | B3: Clamp the bush | C3: Move to position | D3: arrived | E3: 0 | F3: 0.4 | G3: 0.8 | H3: 0.4 | I3: =IF($A3="","",IF($C3="",0,IF($D3="arrived",INDEX($J:$J,MATCH($C3,$A:$A,0)),INDEX($L:$L,MATCH($C3,$A:$A,0))))+N($E3)) | J3: =IF($A3="","",$I3+N($F3)) | K3: =IF($A3="","",$J3+N($G3)) | L3: =IF($A3="","",$K3+N($H3)) | M3: =IF($A3="","",N($F3)+N($G3)+N($H3))
A4: Drill | B4: Drill the hole | C4: Clamp | D4: arrived | E4: 0 | F4: 0.3 | G4: 0.5 | H4: 0.3 | I4: =IF($A4="","",IF($C4="",0,IF($D4="arrived",INDEX($J:$J,MATCH($C4,$A:$A,0)),INDEX($L:$L,MATCH($C4,$A:$A,0))))+N($E4)) | J4: =IF($A4="","",$I4+N($F4)) | K4: =IF($A4="","",$J4+N($G4)) | L4: =IF($A4="","",$K4+N($H4)) | M4: =IF($A4="","",N($F4)+N($G4)+N($H4))
A5: Eject | B5: Air jet | C5: Move to position | D5: finished | E5: 0 | F5: 0.2 | G5: 0.1 | H5: 0.2 | I5: =IF($A5="","",IF($C5="",0,IF($D5="arrived",INDEX($J:$J,MATCH($C5,$A:$A,0)),INDEX($L:$L,MATCH($C5,$A:$A,0))))+N($E5)) | J5: =IF($A5="","",$I5+N($F5)) | K5: =IF($A5="","",$J5+N($G5)) | L5: =IF($A5="","",$K5+N($H5)) | M5: =IF($A5="","",N($F5)+N($G5)+N($H5))
I6: =IF($A6="","",IF($C6="",0,IF($D6="arrived",INDEX($J:$J,MATCH($C6,$A:$A,0)),INDEX($L:$L,MATCH($C6,$A:$A,0))))+N($E6)) | J6: =IF($A6="","",$I6+N($F6)) | K6: =IF($A6="","",$J6+N($G6)) | L6: =IF($A6="","",$K6+N($H6)) | M6: =IF($A6="","",N($F6)+N($G6)+N($H6))
I7: =IF($A7="","",IF($C7="",0,IF($D7="arrived",INDEX($J:$J,MATCH($C7,$A:$A,0)),INDEX($L:$L,MATCH($C7,$A:$A,0))))+N($E7)) | J7: =IF($A7="","",$I7+N($F7)) | K7: =IF($A7="","",$J7+N($G7)) | L7: =IF($A7="","",$K7+N($H7)) | M7: =IF($A7="","",N($F7)+N($G7)+N($H7))
I8: =IF($A8="","",IF($C8="",0,IF($D8="arrived",INDEX($J:$J,MATCH($C8,$A:$A,0)),INDEX($L:$L,MATCH($C8,$A:$A,0))))+N($E8)) | J8: =IF($A8="","",$I8+N($F8)) | K8: =IF($A8="","",$J8+N($G8)) | L8: =IF($A8="","",$K8+N($H8)) | M8: =IF($A8="","",N($F8)+N($G8)+N($H8))
I9: =IF($A9="","",IF($C9="",0,IF($D9="arrived",INDEX($J:$J,MATCH($C9,$A:$A,0)),INDEX($L:$L,MATCH($C9,$A:$A,0))))+N($E9)) | J9: =IF($A9="","",$I9+N($F9)) | K9: =IF($A9="","",$J9+N($G9)) | L9: =IF($A9="","",$K9+N($H9)) | M9: =IF($A9="","",N($F9)+N($G9)+N($H9))
I10: =IF($A10="","",IF($C10="",0,IF($D10="arrived",INDEX($J:$J,MATCH($C10,$A:$A,0)),INDEX($L:$L,MATCH($C10,$A:$A,0))))+N($E10)) | J10: =IF($A10="","",$I10+N($F10)) | K10: =IF($A10="","",$J10+N($G10)) | L10: =IF($A10="","",$K10+N($H10)) | M10: =IF($A10="","",N($F10)+N($G10)+N($H10))
I11: =IF($A11="","",IF($C11="",0,IF($D11="arrived",INDEX($J:$J,MATCH($C11,$A:$A,0)),INDEX($L:$L,MATCH($C11,$A:$A,0))))+N($E11)) | J11: =IF($A11="","",$I11+N($F11)) | K11: =IF($A11="","",$J11+N($G11)) | L11: =IF($A11="","",$K11+N($H11)) | M11: =IF($A11="","",N($F11)+N($G11)+N($H11))
I12: =IF($A12="","",IF($C12="",0,IF($D12="arrived",INDEX($J:$J,MATCH($C12,$A:$A,0)),INDEX($L:$L,MATCH($C12,$A:$A,0))))+N($E12)) | J12: =IF($A12="","",$I12+N($F12)) | K12: =IF($A12="","",$J12+N($G12)) | L12: =IF($A12="","",$K12+N($H12)) | M12: =IF($A12="","",N($F12)+N($G12)+N($H12))
I13: =IF($A13="","",IF($C13="",0,IF($D13="arrived",INDEX($J:$J,MATCH($C13,$A:$A,0)),INDEX($L:$L,MATCH($C13,$A:$A,0))))+N($E13)) | J13: =IF($A13="","",$I13+N($F13)) | K13: =IF($A13="","",$J13+N($G13)) | L13: =IF($A13="","",$K13+N($H13)) | M13: =IF($A13="","",N($F13)+N($G13)+N($H13))
I14: =IF($A14="","",IF($C14="",0,IF($D14="arrived",INDEX($J:$J,MATCH($C14,$A:$A,0)),INDEX($L:$L,MATCH($C14,$A:$A,0))))+N($E14)) | J14: =IF($A14="","",$I14+N($F14)) | K14: =IF($A14="","",$J14+N($G14)) | L14: =IF($A14="","",$K14+N($H14)) | M14: =IF($A14="","",N($F14)+N($G14)+N($H14))
I15: =IF($A15="","",IF($C15="",0,IF($D15="arrived",INDEX($J:$J,MATCH($C15,$A:$A,0)),INDEX($L:$L,MATCH($C15,$A:$A,0))))+N($E15)) | J15: =IF($A15="","",$I15+N($F15)) | K15: =IF($A15="","",$J15+N($G15)) | L15: =IF($A15="","",$K15+N($H15)) | M15: =IF($A15="","",N($F15)+N($G15)+N($H15))
I16: =IF($A16="","",IF($C16="",0,IF($D16="arrived",INDEX($J:$J,MATCH($C16,$A:$A,0)),INDEX($L:$L,MATCH($C16,$A:$A,0))))+N($E16)) | J16: =IF($A16="","",$I16+N($F16)) | K16: =IF($A16="","",$J16+N($G16)) | L16: =IF($A16="","",$K16+N($H16)) | M16: =IF($A16="","",N($F16)+N($G16)+N($H16))
I17: =IF($A17="","",IF($C17="",0,IF($D17="arrived",INDEX($J:$J,MATCH($C17,$A:$A,0)),INDEX($L:$L,MATCH($C17,$A:$A,0))))+N($E17)) | J17: =IF($A17="","",$I17+N($F17)) | K17: =IF($A17="","",$J17+N($G17)) | L17: =IF($A17="","",$K17+N($H17)) | M17: =IF($A17="","",N($F17)+N($G17)+N($H17))
... I31: =IF($A31="","",IF($C31="",0,IF($D31="arrived",INDEX($J:$J,MATCH($C31,$A:$A,0)),INDEX($L:$L,MATCH($C31,$A:$A,0))))+N($E31)) | J31: =IF($A31="","",$I31+N($F31)) | K31: =IF($A31="","",$J31+N($G31)) | L31: =IF($A31="","",$K31+N($H31)) | M31: =IF($A31="","",N($F31)+N($G31)+N($H31))
A33: How to use: one row per movement. Name the actuator, type the three parts in seconds, and in “Waits for” name the actuator whose movement this one cannot start before — “arrived” waits for the end of its stroke out, “finished” for the end of its stroke back. Leave “Waits for” empty for a movement that starts the cycle. The offset is deliberate dead time (valve response, a settle). Start, Arrived, Released, End and the cycle time are computed; the Chart sheet draws the bars.
A34: Limits: one predecessor per movement (for two, take the later one by hand), one movement per actuator, no wrap across the cycle end, and no check that two movements overlap in a place they must not — look down the chart for that. cyclogram.app/learn/cyclogram-template/ explains; cyclogram.app/app/ does all of it live.

Sheet Chart
A1: Movement | B1: 0 | C1: 0.1 | D1: 0.2 | E1: 0.3 | F1: 0.4 | G1: 0.5 | H1: 0.6 | I1: 0.7 | J1: 0.8 | K1: 0.9 | L1: 1 | M1: 1.1 | N1: 1.2 | O1: 1.3 | P1: 1.4 | Q1: 1.5 | R1: 1.6 | S1: 1.7 | T1: 1.8 | U1: 1.9 | V1: 2 | W1: 2.1 | X1: 2.2 | Y1: 2.3 | Z1: 2.4 | AA1: 2.5 | AB1: 2.6 | AC1: 2.7 | AD1: 2.8 | AE1: 2.9 | AF1: 3 | AG1: 3.1 | AH1: 3.2 | AI1: 3.3 | AJ1: 3.4 | AK1: 3.5 | AL1: 3.6 | AM1: 3.7 | AN1: 3.8 | AO1: 3.9 | AP1: 4 | AQ1: 4.1 | AR1: 4.2 | AS1: 4.3 | AT1: 4.4 | AU1: 4.5 | AV1: 4.6 | AW1: 4.7 | AX1: 4.8 | AY1: 4.9 | AZ1: 5 | BA1: 5.1 | BB1: 5.2 | BC1: 5.3 | BD1: 5.4 | BE1: 5.5 | BF1: 5.6 | BG1: 5.7 | BH1: 5.8 | BI1: 5.9 | BJ1: 6
A2: =IF(Cyclogram!$A2="","",Cyclogram!$A2) | B2: =IF(Cyclogram!$A2="","",IF(AND(B$1>=Cyclogram!$I2,B$1<Cyclogram!$L2),IF(AND(B$1>=Cyclogram!$J2,B$1<Cyclogram!$K2),"█","░"),"")) | C2: =IF(Cyclogram!$A2="","",IF(AND(C$1>=Cyclogram!$I2,C$1<Cyclogram!$L2),IF(AND(C$1>=Cyclogram!$J2,C$1<Cyclogram!$K2),"█","░"),"")) | D2: =IF(Cyclogram!$A2="","",IF(AND(D$1>=Cyclogram!$I2,D$1<Cyclogram!$L2),IF(AND(D$1>=Cyclogram!$J2,D$1<Cyclogram!$K2),"█","░"),"")) | E2: =IF(Cyclogram!$A2="","",IF(AND(E$1>=Cyclogram!$I2,E$1<Cyclogram!$L2),IF(AND(E$1>=Cyclogram!$J2,E$1<Cyclogram!$K2),"█","░"),"")) | F2: =IF(Cyclogram!$A2="","",IF(AND(F$1>=Cyclogram!$I2,F$1<Cyclogram!$L2),IF(AND(F$1>=Cyclogram!$J2,F$1<Cyclogram!$K2),"█","░"),"")) | G2: =IF(Cyclogram!$A2="","",IF(AND(G$1>=Cyclogram!$I2,G$1<Cyclogram!$L2),IF(AND(G$1>=Cyclogram!$J2,G$1<Cyclogram!$K2),"█","░"),"")) | H2: =IF(Cyclogram!$A2="","",IF(AND(H$1>=Cyclogram!$I2,H$1<Cyclogram!$L2),IF(AND(H$1>=Cyclogram!$J2,H$1<Cyclogram!$K2),"█","░"),"")) | I2: =IF(Cyclogram!$A2="","",IF(AND(I$1>=Cyclogram!$I2,I$1<Cyclogram!$L2),IF(AND(I$1>=Cyclogram!$J2,I$1<Cyclogram!$K2),"█","░"),"")) | ... BJ2: =IF(Cyclogram!$A2="","",IF(AND(BJ$1>=Cyclogram!$I2,BJ$1<Cyclogram!$L2),IF(AND(BJ$1>=Cyclogram!$J2,BJ$1<Cyclogram!$K2),"█","░"),""))
A3: =IF(Cyclogram!$A3="","",Cyclogram!$A3) | B3: =IF(Cyclogram!$A3="","",IF(AND(B$1>=Cyclogram!$I3,B$1<Cyclogram!$L3),IF(AND(B$1>=Cyclogram!$J3,B$1<Cyclogram!$K3),"█","░"),"")) | C3: =IF(Cyclogram!$A3="","",IF(AND(C$1>=Cyclogram!$I3,C$1<Cyclogram!$L3),IF(AND(C$1>=Cyclogram!$J3,C$1<Cyclogram!$K3),"█","░"),"")) | D3: =IF(Cyclogram!$A3="","",IF(AND(D$1>=Cyclogram!$I3,D$1<Cyclogram!$L3),IF(AND(D$1>=Cyclogram!$J3,D$1<Cyclogram!$K3),"█","░"),"")) | E3: =IF(Cyclogram!$A3="","",IF(AND(E$1>=Cyclogram!$I3,E$1<Cyclogram!$L3),IF(AND(E$1>=Cyclogram!$J3,E$1<Cyclogram!$K3),"█","░"),"")) | F3: =IF(Cyclogram!$A3="","",IF(AND(F$1>=Cyclogram!$I3,F$1<Cyclogram!$L3),IF(AND(F$1>=Cyclogram!$J3,F$1<Cyclogram!$K3),"█","░"),"")) | G3: =IF(Cyclogram!$A3="","",IF(AND(G$1>=Cyclogram!$I3,G$1<Cyclogram!$L3),IF(AND(G$1>=Cyclogram!$J3,G$1<Cyclogram!$K3),"█","░"),"")) | H3: =IF(Cyclogram!$A3="","",IF(AND(H$1>=Cyclogram!$I3,H$1<Cyclogram!$L3),IF(AND(H$1>=Cyclogram!$J3,H$1<Cyclogram!$K3),"█","░"),"")) | I3: =IF(Cyclogram!$A3="","",IF(AND(I$1>=Cyclogram!$I3,I$1<Cyclogram!$L3),IF(AND(I$1>=Cyclogram!$J3,I$1<Cyclogram!$K3),"█","░"),"")) | ... BJ3: =IF(Cyclogram!$A3="","",IF(AND(BJ$1>=Cyclogram!$I3,BJ$1<Cyclogram!$L3),IF(AND(BJ$1>=Cyclogram!$J3,BJ$1<Cyclogram!$K3),"█","░"),""))
A4: =IF(Cyclogram!$A4="","",Cyclogram!$A4) | B4: =IF(Cyclogram!$A4="","",IF(AND(B$1>=Cyclogram!$I4,B$1<Cyclogram!$L4),IF(AND(B$1>=Cyclogram!$J4,B$1<Cyclogram!$K4),"█","░"),"")) | C4: =IF(Cyclogram!$A4="","",IF(AND(C$1>=Cyclogram!$I4,C$1<Cyclogram!$L4),IF(AND(C$1>=Cyclogram!$J4,C$1<Cyclogram!$K4),"█","░"),"")) | D4: =IF(Cyclogram!$A4="","",IF(AND(D$1>=Cyclogram!$I4,D$1<Cyclogram!$L4),IF(AND(D$1>=Cyclogram!$J4,D$1<Cyclogram!$K4),"█","░"),"")) | E4: =IF(Cyclogram!$A4="","",IF(AND(E$1>=Cyclogram!$I4,E$1<Cyclogram!$L4),IF(AND(E$1>=Cyclogram!$J4,E$1<Cyclogram!$K4),"█","░"),"")) | F4: =IF(Cyclogram!$A4="","",IF(AND(F$1>=Cyclogram!$I4,F$1<Cyclogram!$L4),IF(AND(F$1>=Cyclogram!$J4,F$1<Cyclogram!$K4),"█","░"),"")) | G4: =IF(Cyclogram!$A4="","",IF(AND(G$1>=Cyclogram!$I4,G$1<Cyclogram!$L4),IF(AND(G$1>=Cyclogram!$J4,G$1<Cyclogram!$K4),"█","░"),"")) | H4: =IF(Cyclogram!$A4="","",IF(AND(H$1>=Cyclogram!$I4,H$1<Cyclogram!$L4),IF(AND(H$1>=Cyclogram!$J4,H$1<Cyclogram!$K4),"█","░"),"")) | I4: =IF(Cyclogram!$A4="","",IF(AND(I$1>=Cyclogram!$I4,I$1<Cyclogram!$L4),IF(AND(I$1>=Cyclogram!$J4,I$1<Cyclogram!$K4),"█","░"),"")) | ... BJ4: =IF(Cyclogram!$A4="","",IF(AND(BJ$1>=Cyclogram!$I4,BJ$1<Cyclogram!$L4),IF(AND(BJ$1>=Cyclogram!$J4,BJ$1<Cyclogram!$K4),"█","░"),""))
A5: =IF(Cyclogram!$A5="","",Cyclogram!$A5) | B5: =IF(Cyclogram!$A5="","",IF(AND(B$1>=Cyclogram!$I5,B$1<Cyclogram!$L5),IF(AND(B$1>=Cyclogram!$J5,B$1<Cyclogram!$K5),"█","░"),"")) | C5: =IF(Cyclogram!$A5="","",IF(AND(C$1>=Cyclogram!$I5,C$1<Cyclogram!$L5),IF(AND(C$1>=Cyclogram!$J5,C$1<Cyclogram!$K5),"█","░"),"")) | D5: =IF(Cyclogram!$A5="","",IF(AND(D$1>=Cyclogram!$I5,D$1<Cyclogram!$L5),IF(AND(D$1>=Cyclogram!$J5,D$1<Cyclogram!$K5),"█","░"),"")) | E5: =IF(Cyclogram!$A5="","",IF(AND(E$1>=Cyclogram!$I5,E$1<Cyclogram!$L5),IF(AND(E$1>=Cyclogram!$J5,E$1<Cyclogram!$K5),"█","░"),"")) | F5: =IF(Cyclogram!$A5="","",IF(AND(F$1>=Cyclogram!$I5,F$1<Cyclogram!$L5),IF(AND(F$1>=Cyclogram!$J5,F$1<Cyclogram!$K5),"█","░"),"")) | G5: =IF(Cyclogram!$A5="","",IF(AND(G$1>=Cyclogram!$I5,G$1<Cyclogram!$L5),IF(AND(G$1>=Cyclogram!$J5,G$1<Cyclogram!$K5),"█","░"),"")) | H5: =IF(Cyclogram!$A5="","",IF(AND(H$1>=Cyclogram!$I5,H$1<Cyclogram!$L5),IF(AND(H$1>=Cyclogram!$J5,H$1<Cyclogram!$K5),"█","░"),"")) | I5: =IF(Cyclogram!$A5="","",IF(AND(I$1>=Cyclogram!$I5,I$1<Cyclogram!$L5),IF(AND(I$1>=Cyclogram!$J5,I$1<Cyclogram!$K5),"█","░"),"")) | ... BJ5: =IF(Cyclogram!$A5="","",IF(AND(BJ$1>=Cyclogram!$I5,BJ$1<Cyclogram!$L5),IF(AND(BJ$1>=Cyclogram!$J5,BJ$1<Cyclogram!$K5),"█","░"),""))
A6: =IF(Cyclogram!$A6="","",Cyclogram!$A6) | B6: =IF(Cyclogram!$A6="","",IF(AND(B$1>=Cyclogram!$I6,B$1<Cyclogram!$L6),IF(AND(B$1>=Cyclogram!$J6,B$1<Cyclogram!$K6),"█","░"),"")) | C6: =IF(Cyclogram!$A6="","",IF(AND(C$1>=Cyclogram!$I6,C$1<Cyclogram!$L6),IF(AND(C$1>=Cyclogram!$J6,C$1<Cyclogram!$K6),"█","░"),"")) | D6: =IF(Cyclogram!$A6="","",IF(AND(D$1>=Cyclogram!$I6,D$1<Cyclogram!$L6),IF(AND(D$1>=Cyclogram!$J6,D$1<Cyclogram!$K6),"█","░"),"")) | E6: =IF(Cyclogram!$A6="","",IF(AND(E$1>=Cyclogram!$I6,E$1<Cyclogram!$L6),IF(AND(E$1>=Cyclogram!$J6,E$1<Cyclogram!$K6),"█","░"),"")) | F6: =IF(Cyclogram!$A6="","",IF(AND(F$1>=Cyclogram!$I6,F$1<Cyclogram!$L6),IF(AND(F$1>=Cyclogram!$J6,F$1<Cyclogram!$K6),"█","░"),"")) | G6: =IF(Cyclogram!$A6="","",IF(AND(G$1>=Cyclogram!$I6,G$1<Cyclogram!$L6),IF(AND(G$1>=Cyclogram!$J6,G$1<Cyclogram!$K6),"█","░"),"")) | H6: =IF(Cyclogram!$A6="","",IF(AND(H$1>=Cyclogram!$I6,H$1<Cyclogram!$L6),IF(AND(H$1>=Cyclogram!$J6,H$1<Cyclogram!$K6),"█","░"),"")) | I6: =IF(Cyclogram!$A6="","",IF(AND(I$1>=Cyclogram!$I6,I$1<Cyclogram!$L6),IF(AND(I$1>=Cyclogram!$J6,I$1<Cyclogram!$K6),"█","░"),"")) | ... BJ6: =IF(Cyclogram!$A6="","",IF(AND(BJ$1>=Cyclogram!$I6,BJ$1<Cyclogram!$L6),IF(AND(BJ$1>=Cyclogram!$J6,BJ$1<Cyclogram!$K6),"█","░"),""))
A7: =IF(Cyclogram!$A7="","",Cyclogram!$A7) | B7: =IF(Cyclogram!$A7="","",IF(AND(B$1>=Cyclogram!$I7,B$1<Cyclogram!$L7),IF(AND(B$1>=Cyclogram!$J7,B$1<Cyclogram!$K7),"█","░"),"")) | C7: =IF(Cyclogram!$A7="","",IF(AND(C$1>=Cyclogram!$I7,C$1<Cyclogram!$L7),IF(AND(C$1>=Cyclogram!$J7,C$1<Cyclogram!$K7),"█","░"),"")) | D7: =IF(Cyclogram!$A7="","",IF(AND(D$1>=Cyclogram!$I7,D$1<Cyclogram!$L7),IF(AND(D$1>=Cyclogram!$J7,D$1<Cyclogram!$K7),"█","░"),"")) | E7: =IF(Cyclogram!$A7="","",IF(AND(E$1>=Cyclogram!$I7,E$1<Cyclogram!$L7),IF(AND(E$1>=Cyclogram!$J7,E$1<Cyclogram!$K7),"█","░"),"")) | F7: =IF(Cyclogram!$A7="","",IF(AND(F$1>=Cyclogram!$I7,F$1<Cyclogram!$L7),IF(AND(F$1>=Cyclogram!$J7,F$1<Cyclogram!$K7),"█","░"),"")) | G7: =IF(Cyclogram!$A7="","",IF(AND(G$1>=Cyclogram!$I7,G$1<Cyclogram!$L7),IF(AND(G$1>=Cyclogram!$J7,G$1<Cyclogram!$K7),"█","░"),"")) | H7: =IF(Cyclogram!$A7="","",IF(AND(H$1>=Cyclogram!$I7,H$1<Cyclogram!$L7),IF(AND(H$1>=Cyclogram!$J7,H$1<Cyclogram!$K7),"█","░"),"")) | I7: =IF(Cyclogram!$A7="","",IF(AND(I$1>=Cyclogram!$I7,I$1<Cyclogram!$L7),IF(AND(I$1>=Cyclogram!$J7,I$1<Cyclogram!$K7),"█","░"),"")) | ... BJ7: =IF(Cyclogram!$A7="","",IF(AND(BJ$1>=Cyclogram!$I7,BJ$1<Cyclogram!$L7),IF(AND(BJ$1>=Cyclogram!$J7,BJ$1<Cyclogram!$K7),"█","░"),""))
A8: =IF(Cyclogram!$A8="","",Cyclogram!$A8) | B8: =IF(Cyclogram!$A8="","",IF(AND(B$1>=Cyclogram!$I8,B$1<Cyclogram!$L8),IF(AND(B$1>=Cyclogram!$J8,B$1<Cyclogram!$K8),"█","░"),"")) | C8: =IF(Cyclogram!$A8="","",IF(AND(C$1>=Cyclogram!$I8,C$1<Cyclogram!$L8),IF(AND(C$1>=Cyclogram!$J8,C$1<Cyclogram!$K8),"█","░"),"")) | D8: =IF(Cyclogram!$A8="","",IF(AND(D$1>=Cyclogram!$I8,D$1<Cyclogram!$L8),IF(AND(D$1>=Cyclogram!$J8,D$1<Cyclogram!$K8),"█","░"),"")) | E8: =IF(Cyclogram!$A8="","",IF(AND(E$1>=Cyclogram!$I8,E$1<Cyclogram!$L8),IF(AND(E$1>=Cyclogram!$J8,E$1<Cyclogram!$K8),"█","░"),"")) | F8: =IF(Cyclogram!$A8="","",IF(AND(F$1>=Cyclogram!$I8,F$1<Cyclogram!$L8),IF(AND(F$1>=Cyclogram!$J8,F$1<Cyclogram!$K8),"█","░"),"")) | G8: =IF(Cyclogram!$A8="","",IF(AND(G$1>=Cyclogram!$I8,G$1<Cyclogram!$L8),IF(AND(G$1>=Cyclogram!$J8,G$1<Cyclogram!$K8),"█","░"),"")) | H8: =IF(Cyclogram!$A8="","",IF(AND(H$1>=Cyclogram!$I8,H$1<Cyclogram!$L8),IF(AND(H$1>=Cyclogram!$J8,H$1<Cyclogram!$K8),"█","░"),"")) | I8: =IF(Cyclogram!$A8="","",IF(AND(I$1>=Cyclogram!$I8,I$1<Cyclogram!$L8),IF(AND(I$1>=Cyclogram!$J8,I$1<Cyclogram!$K8),"█","░"),"")) | ... BJ8: =IF(Cyclogram!$A8="","",IF(AND(BJ$1>=Cyclogram!$I8,BJ$1<Cyclogram!$L8),IF(AND(BJ$1>=Cyclogram!$J8,BJ$1<Cyclogram!$K8),"█","░"),""))
A9: =IF(Cyclogram!$A9="","",Cyclogram!$A9) | B9: =IF(Cyclogram!$A9="","",IF(AND(B$1>=Cyclogram!$I9,B$1<Cyclogram!$L9),IF(AND(B$1>=Cyclogram!$J9,B$1<Cyclogram!$K9),"█","░"),"")) | C9: =IF(Cyclogram!$A9="","",IF(AND(C$1>=Cyclogram!$I9,C$1<Cyclogram!$L9),IF(AND(C$1>=Cyclogram!$J9,C$1<Cyclogram!$K9),"█","░"),"")) | D9: =IF(Cyclogram!$A9="","",IF(AND(D$1>=Cyclogram!$I9,D$1<Cyclogram!$L9),IF(AND(D$1>=Cyclogram!$J9,D$1<Cyclogram!$K9),"█","░"),"")) | E9: =IF(Cyclogram!$A9="","",IF(AND(E$1>=Cyclogram!$I9,E$1<Cyclogram!$L9),IF(AND(E$1>=Cyclogram!$J9,E$1<Cyclogram!$K9),"█","░"),"")) | F9: =IF(Cyclogram!$A9="","",IF(AND(F$1>=Cyclogram!$I9,F$1<Cyclogram!$L9),IF(AND(F$1>=Cyclogram!$J9,F$1<Cyclogram!$K9),"█","░"),"")) | G9: =IF(Cyclogram!$A9="","",IF(AND(G$1>=Cyclogram!$I9,G$1<Cyclogram!$L9),IF(AND(G$1>=Cyclogram!$J9,G$1<Cyclogram!$K9),"█","░"),"")) | H9: =IF(Cyclogram!$A9="","",IF(AND(H$1>=Cyclogram!$I9,H$1<Cyclogram!$L9),IF(AND(H$1>=Cyclogram!$J9,H$1<Cyclogram!$K9),"█","░"),"")) | I9: =IF(Cyclogram!$A9="","",IF(AND(I$1>=Cyclogram!$I9,I$1<Cyclogram!$L9),IF(AND(I$1>=Cyclogram!$J9,I$1<Cyclogram!$K9),"█","░"),"")) | ... BJ9: =IF(Cyclogram!$A9="","",IF(AND(BJ$1>=Cyclogram!$I9,BJ$1<Cyclogram!$L9),IF(AND(BJ$1>=Cyclogram!$J9,BJ$1<Cyclogram!$K9),"█","░"),""))
A10: =IF(Cyclogram!$A10="","",Cyclogram!$A10) | B10: =IF(Cyclogram!$A10="","",IF(AND(B$1>=Cyclogram!$I10,B$1<Cyclogram!$L10),IF(AND(B$1>=Cyclogram!$J10,B$1<Cyclogram!$K10),"█","░"),"")) | C10: =IF(Cyclogram!$A10="","",IF(AND(C$1>=Cyclogram!$I10,C$1<Cyclogram!$L10),IF(AND(C$1>=Cyclogram!$J10,C$1<Cyclogram!$K10),"█","░"),"")) | D10: =IF(Cyclogram!$A10="","",IF(AND(D$1>=Cyclogram!$I10,D$1<Cyclogram!$L10),IF(AND(D$1>=Cyclogram!$J10,D$1<Cyclogram!$K10),"█","░"),"")) | E10: =IF(Cyclogram!$A10="","",IF(AND(E$1>=Cyclogram!$I10,E$1<Cyclogram!$L10),IF(AND(E$1>=Cyclogram!$J10,E$1<Cyclogram!$K10),"█","░"),"")) | F10: =IF(Cyclogram!$A10="","",IF(AND(F$1>=Cyclogram!$I10,F$1<Cyclogram!$L10),IF(AND(F$1>=Cyclogram!$J10,F$1<Cyclogram!$K10),"█","░"),"")) | G10: =IF(Cyclogram!$A10="","",IF(AND(G$1>=Cyclogram!$I10,G$1<Cyclogram!$L10),IF(AND(G$1>=Cyclogram!$J10,G$1<Cyclogram!$K10),"█","░"),"")) | H10: =IF(Cyclogram!$A10="","",IF(AND(H$1>=Cyclogram!$I10,H$1<Cyclogram!$L10),IF(AND(H$1>=Cyclogram!$J10,H$1<Cyclogram!$K10),"█","░"),"")) | I10: =IF(Cyclogram!$A10="","",IF(AND(I$1>=Cyclogram!$I10,I$1<Cyclogram!$L10),IF(AND(I$1>=Cyclogram!$J10,I$1<Cyclogram!$K10),"█","░"),"")) | ... BJ10: =IF(Cyclogram!$A10="","",IF(AND(BJ$1>=Cyclogram!$I10,BJ$1<Cyclogram!$L10),IF(AND(BJ$1>=Cyclogram!$J10,BJ$1<Cyclogram!$K10),"█","░"),""))
A11: =IF(Cyclogram!$A11="","",Cyclogram!$A11) | B11: =IF(Cyclogram!$A11="","",IF(AND(B$1>=Cyclogram!$I11,B$1<Cyclogram!$L11),IF(AND(B$1>=Cyclogram!$J11,B$1<Cyclogram!$K11),"█","░"),"")) | C11: =IF(Cyclogram!$A11="","",IF(AND(C$1>=Cyclogram!$I11,C$1<Cyclogram!$L11),IF(AND(C$1>=Cyclogram!$J11,C$1<Cyclogram!$K11),"█","░"),"")) | D11: =IF(Cyclogram!$A11="","",IF(AND(D$1>=Cyclogram!$I11,D$1<Cyclogram!$L11),IF(AND(D$1>=Cyclogram!$J11,D$1<Cyclogram!$K11),"█","░"),"")) | E11: =IF(Cyclogram!$A11="","",IF(AND(E$1>=Cyclogram!$I11,E$1<Cyclogram!$L11),IF(AND(E$1>=Cyclogram!$J11,E$1<Cyclogram!$K11),"█","░"),"")) | F11: =IF(Cyclogram!$A11="","",IF(AND(F$1>=Cyclogram!$I11,F$1<Cyclogram!$L11),IF(AND(F$1>=Cyclogram!$J11,F$1<Cyclogram!$K11),"█","░"),"")) | G11: =IF(Cyclogram!$A11="","",IF(AND(G$1>=Cyclogram!$I11,G$1<Cyclogram!$L11),IF(AND(G$1>=Cyclogram!$J11,G$1<Cyclogram!$K11),"█","░"),"")) | H11: =IF(Cyclogram!$A11="","",IF(AND(H$1>=Cyclogram!$I11,H$1<Cyclogram!$L11),IF(AND(H$1>=Cyclogram!$J11,H$1<Cyclogram!$K11),"█","░"),"")) | I11: =IF(Cyclogram!$A11="","",IF(AND(I$1>=Cyclogram!$I11,I$1<Cyclogram!$L11),IF(AND(I$1>=Cyclogram!$J11,I$1<Cyclogram!$K11),"█","░"),"")) | ... BJ11: =IF(Cyclogram!$A11="","",IF(AND(BJ$1>=Cyclogram!$I11,BJ$1<Cyclogram!$L11),IF(AND(BJ$1>=Cyclogram!$J11,BJ$1<Cyclogram!$K11),"█","░"),""))
A12: =IF(Cyclogram!$A12="","",Cyclogram!$A12) | B12: =IF(Cyclogram!$A12="","",IF(AND(B$1>=Cyclogram!$I12,B$1<Cyclogram!$L12),IF(AND(B$1>=Cyclogram!$J12,B$1<Cyclogram!$K12),"█","░"),"")) | C12: =IF(Cyclogram!$A12="","",IF(AND(C$1>=Cyclogram!$I12,C$1<Cyclogram!$L12),IF(AND(C$1>=Cyclogram!$J12,C$1<Cyclogram!$K12),"█","░"),"")) | D12: =IF(Cyclogram!$A12="","",IF(AND(D$1>=Cyclogram!$I12,D$1<Cyclogram!$L12),IF(AND(D$1>=Cyclogram!$J12,D$1<Cyclogram!$K12),"█","░"),"")) | E12: =IF(Cyclogram!$A12="","",IF(AND(E$1>=Cyclogram!$I12,E$1<Cyclogram!$L12),IF(AND(E$1>=Cyclogram!$J12,E$1<Cyclogram!$K12),"█","░"),"")) | F12: =IF(Cyclogram!$A12="","",IF(AND(F$1>=Cyclogram!$I12,F$1<Cyclogram!$L12),IF(AND(F$1>=Cyclogram!$J12,F$1<Cyclogram!$K12),"█","░"),"")) | G12: =IF(Cyclogram!$A12="","",IF(AND(G$1>=Cyclogram!$I12,G$1<Cyclogram!$L12),IF(AND(G$1>=Cyclogram!$J12,G$1<Cyclogram!$K12),"█","░"),"")) | H12: =IF(Cyclogram!$A12="","",IF(AND(H$1>=Cyclogram!$I12,H$1<Cyclogram!$L12),IF(AND(H$1>=Cyclogram!$J12,H$1<Cyclogram!$K12),"█","░"),"")) | I12: =IF(Cyclogram!$A12="","",IF(AND(I$1>=Cyclogram!$I12,I$1<Cyclogram!$L12),IF(AND(I$1>=Cyclogram!$J12,I$1<Cyclogram!$K12),"█","░"),"")) | ... BJ12: =IF(Cyclogram!$A12="","",IF(AND(BJ$1>=Cyclogram!$I12,BJ$1<Cyclogram!$L12),IF(AND(BJ$1>=Cyclogram!$J12,BJ$1<Cyclogram!$K12),"█","░"),""))
A13: =IF(Cyclogram!$A13="","",Cyclogram!$A13) | B13: =IF(Cyclogram!$A13="","",IF(AND(B$1>=Cyclogram!$I13,B$1<Cyclogram!$L13),IF(AND(B$1>=Cyclogram!$J13,B$1<Cyclogram!$K13),"█","░"),"")) | C13: =IF(Cyclogram!$A13="","",IF(AND(C$1>=Cyclogram!$I13,C$1<Cyclogram!$L13),IF(AND(C$1>=Cyclogram!$J13,C$1<Cyclogram!$K13),"█","░"),"")) | D13: =IF(Cyclogram!$A13="","",IF(AND(D$1>=Cyclogram!$I13,D$1<Cyclogram!$L13),IF(AND(D$1>=Cyclogram!$J13,D$1<Cyclogram!$K13),"█","░"),"")) | E13: =IF(Cyclogram!$A13="","",IF(AND(E$1>=Cyclogram!$I13,E$1<Cyclogram!$L13),IF(AND(E$1>=Cyclogram!$J13,E$1<Cyclogram!$K13),"█","░"),"")) | F13: =IF(Cyclogram!$A13="","",IF(AND(F$1>=Cyclogram!$I13,F$1<Cyclogram!$L13),IF(AND(F$1>=Cyclogram!$J13,F$1<Cyclogram!$K13),"█","░"),"")) | G13: =IF(Cyclogram!$A13="","",IF(AND(G$1>=Cyclogram!$I13,G$1<Cyclogram!$L13),IF(AND(G$1>=Cyclogram!$J13,G$1<Cyclogram!$K13),"█","░"),"")) | H13: =IF(Cyclogram!$A13="","",IF(AND(H$1>=Cyclogram!$I13,H$1<Cyclogram!$L13),IF(AND(H$1>=Cyclogram!$J13,H$1<Cyclogram!$K13),"█","░"),"")) | I13: =IF(Cyclogram!$A13="","",IF(AND(I$1>=Cyclogram!$I13,I$1<Cyclogram!$L13),IF(AND(I$1>=Cyclogram!$J13,I$1<Cyclogram!$K13),"█","░"),"")) | ... BJ13: =IF(Cyclogram!$A13="","",IF(AND(BJ$1>=Cyclogram!$I13,BJ$1<Cyclogram!$L13),IF(AND(BJ$1>=Cyclogram!$J13,BJ$1<Cyclogram!$K13),"█","░"),""))
... A31: =IF(Cyclogram!$A31="","",Cyclogram!$A31) | B31: =IF(Cyclogram!$A31="","",IF(AND(B$1>=Cyclogram!$I31,B$1<Cyclogram!$L31),IF(AND(B$1>=Cyclogram!$J31,B$1<Cyclogram!$K31),"█","░"),"")) | C31: =IF(Cyclogram!$A31="","",IF(AND(C$1>=Cyclogram!$I31,C$1<Cyclogram!$L31),IF(AND(C$1>=Cyclogram!$J31,C$1<Cyclogram!$K31),"█","░"),"")) | D31: =IF(Cyclogram!$A31="","",IF(AND(D$1>=Cyclogram!$I31,D$1<Cyclogram!$L31),IF(AND(D$1>=Cyclogram!$J31,D$1<Cyclogram!$K31),"█","░"),"")) | E31: =IF(Cyclogram!$A31="","",IF(AND(E$1>=Cyclogram!$I31,E$1<Cyclogram!$L31),IF(AND(E$1>=Cyclogram!$J31,E$1<Cyclogram!$K31),"█","░"),"")) | F31: =IF(Cyclogram!$A31="","",IF(AND(F$1>=Cyclogram!$I31,F$1<Cyclogram!$L31),IF(AND(F$1>=Cyclogram!$J31,F$1<Cyclogram!$K31),"█","░"),"")) | G31: =IF(Cyclogram!$A31="","",IF(AND(G$1>=Cyclogram!$I31,G$1<Cyclogram!$L31),IF(AND(G$1>=Cyclogram!$J31,G$1<Cyclogram!$K31),"█","░"),"")) | H31: =IF(Cyclogram!$A31="","",IF(AND(H$1>=Cyclogram!$I31,H$1<Cyclogram!$L31),IF(AND(H$1>=Cyclogram!$J31,H$1<Cyclogram!$K31),"█","░"),"")) | I31: =IF(Cyclogram!$A31="","",IF(AND(I$1>=Cyclogram!$I31,I$1<Cyclogram!$L31),IF(AND(I$1>=Cyclogram!$J31,I$1<Cyclogram!$K31),"█","░"),"")) | ... BJ31: =IF(Cyclogram!$A31="","",IF(AND(BJ$1>=Cyclogram!$I31,BJ$1<Cyclogram!$L31),IF(AND(BJ$1>=Cyclogram!$J31,BJ$1<Cyclogram!$K31),"█","░"),""))
A33: Each cell is 0.1 s. ░ stroke out or back, █ at the end position. Read down a column to see what the whole machine is doing at that instant; the cycle time on the Cyclogram sheet is where the last bar ends.
